BEGIN:VCALENDAR
VERSION:2.0
PRODID:-//jEvents 2.0 for Joomla//EN
CALSCALE:GREGORIAN
METHOD:PUBLISH
BEGIN:VTIMEZONE
TZID:Europe/Berlin
BEGIN:STANDARD
DTSTART:20201025T020000
RDATE:20210328T030000
TZOFFSETFROM:+0200
TZOFFSETTO:+0100
TZNAME:Europe/Berlin CET
END:STANDARD
BEGIN:STANDARD
DTSTART:20211031T020000
RDATE:20220327T030000
TZOFFSETFROM:+0200
TZOFFSETTO:+0100
TZNAME:Europe/Berlin CET
END:STANDARD
BEGIN:STANDARD
DTSTART:20221030T020000
RDATE:20230326T030000
TZOFFSETFROM:+0200
TZOFFSETTO:+0100
TZNAME:Europe/Berlin CET
END:STANDARD
BEGIN:STANDARD
DTSTART:20231029T020000
RDATE:20240331T030000
TZOFFSETFROM:+0200
TZOFFSETTO:+0100
TZNAME:Europe/Berlin CET
END:STANDARD
BEGIN:STANDARD
DTSTART:20241027T020000
RDATE:20250330T030000
TZOFFSETFROM:+0200
TZOFFSETTO:+0100
TZNAME:Europe/Berlin CET
END:STANDARD
BEGIN:STANDARD
DTSTART:20251026T020000
RDATE:20260329T030000
TZOFFSETFROM:+0200
TZOFFSETTO:+0100
TZNAME:Europe/Berlin CET
END:STANDARD
BEGIN:STANDARD
DTSTART:20261025T020000
RDATE:20270328T030000
TZOFFSETFROM:+0200
TZOFFSETTO:+0100
TZNAME:Europe/Berlin CET
END:STANDARD
BEGIN:STANDARD
DTSTART:20271031T020000
RDATE:20280326T030000
TZOFFSETFROM:+0200
TZOFFSETTO:+0100
TZNAME:Europe/Berlin CET
END:STANDARD
BEGIN:STANDARD
DTSTART:20281029T020000
RDATE:20290325T030000
TZOFFSETFROM:+0200
TZOFFSETTO:+0100
TZNAME:Europe/Berlin CET
END:STANDARD
BEGIN:STANDARD
DTSTART:20291028T020000
RDATE:20300331T030000
TZOFFSETFROM:+0200
TZOFFSETTO:+0100
TZNAME:Europe/Berlin CET
END:STANDARD
BEGIN:STANDARD
DTSTART:20301027T020000
RDATE:20310330T030000
TZOFFSETFROM:+0200
TZOFFSETTO:+0100
TZNAME:Europe/Berlin CET
END:STANDARD
BEGIN:DAYLIGHT
DTSTART:20200820T170000
RDATE:20201025T020000
TZOFFSETFROM:+0100
TZOFFSETTO:+0200
TZNAME:Europe/Berlin CEST
END:DAYLIGHT
BEGIN:DAYLIGHT
DTSTART:20210328T030000
RDATE:20211031T020000
TZOFFSETFROM:+0100
TZOFFSETTO:+0200
TZNAME:Europe/Berlin CEST
END:DAYLIGHT
BEGIN:DAYLIGHT
DTSTART:20220327T030000
RDATE:20221030T020000
TZOFFSETFROM:+0100
TZOFFSETTO:+0200
TZNAME:Europe/Berlin CEST
END:DAYLIGHT
BEGIN:DAYLIGHT
DTSTART:20230326T030000
RDATE:20231029T020000
TZOFFSETFROM:+0100
TZOFFSETTO:+0200
TZNAME:Europe/Berlin CEST
END:DAYLIGHT
BEGIN:DAYLIGHT
DTSTART:20240331T030000
RDATE:20241027T020000
TZOFFSETFROM:+0100
TZOFFSETTO:+0200
TZNAME:Europe/Berlin CEST
END:DAYLIGHT
BEGIN:DAYLIGHT
DTSTART:20250330T030000
RDATE:20251026T020000
TZOFFSETFROM:+0100
TZOFFSETTO:+0200
TZNAME:Europe/Berlin CEST
END:DAYLIGHT
BEGIN:DAYLIGHT
DTSTART:20260329T030000
RDATE:20261025T020000
TZOFFSETFROM:+0100
TZOFFSETTO:+0200
TZNAME:Europe/Berlin CEST
END:DAYLIGHT
BEGIN:DAYLIGHT
DTSTART:20270328T030000
RDATE:20271031T020000
TZOFFSETFROM:+0100
TZOFFSETTO:+0200
TZNAME:Europe/Berlin CEST
END:DAYLIGHT
BEGIN:DAYLIGHT
DTSTART:20280326T030000
RDATE:20281029T020000
TZOFFSETFROM:+0100
TZOFFSETTO:+0200
TZNAME:Europe/Berlin CEST
END:DAYLIGHT
BEGIN:DAYLIGHT
DTSTART:20290325T030000
RDATE:20291028T020000
TZOFFSETFROM:+0100
TZOFFSETTO:+0200
TZNAME:Europe/Berlin CEST
END:DAYLIGHT
BEGIN:DAYLIGHT
DTSTART:20300331T030000
RDATE:20301027T020000
TZOFFSETFROM:+0100
TZOFFSETTO:+0200
TZNAME:Europe/Berlin CEST
END:DAYLIGHT
END:VTIMEZONE
BEGIN:VEVENT
UID:8a4412bd5e59d2589ac7f0facd89c936
CATEGORIES:Geselligkeit
CREATED:20210630T165228
SUMMARY:Sommergrillen in Borsfleth
LOCATION:Störloch/Borsfleth
DESCRIPTION:Sommergrillen in Borsfleth\n\nAm Sonnabend, dem 21. August 2021\nveranstalt
 en wir das Grillfest für unsere Mitglieder und Freunde\nab 17:00 Uhr auf de
 r Wiese im Störloch.\n\nGezeiten für Sonnabend, 21.08.: HW Hamburg: 04:14 h
 , NW Glückstadt : 09:35 h\nGezeiten für Sonntag, 22.08. : NW Glückstadt 10:
 34 h, HW Hamburg : 17:33 h\n\nZur Teilnahme ist eine Anmeldung mit Bootsnam
 en und Bootslänge bis zum 15.08. unter Diese E-Mail-Adresse ist vor Spambot
 s geschützt! Zur Anzeige muss JavaScript eingeschaltet sein!
				document.g
 etElementById('cloakf6db466a0f27f8918c88d39be096a884').innerHTML = '';
				
 var prefix = 'ma' + 'il' + 'to';
				var path = 'hr' + 'ef' + '=';
				var 
 addyf6db466a0f27f8918c88d39be096a884 = 'doerte.stryi' + '@';
				addyf6db46
 6a0f27f8918c88d39be096a884 = addyf6db466a0f27f8918c88d39be096a884 + 'svaoe'
  + '.' + 'de';
				var addy_textf6db466a0f27f8918c88d39be096a884 = 'doerte.
 stryi' + '@' + 'svaoe' + '.' + 'de';document.getElementById('cloakf6db466a0
 f27f8918c88d39be096a884').innerHTML += ''+addy_textf6db466a0f27f8918c88d39b
 e096a884+'&lt;\/a&gt;';
		 erforderlich. Wer mit dem Auto/Rad usw. anreist\
 n
möge sich ebenfalls anmelden.\n
\n
Bitte bringen Sie Grillgerät, Kohle un
 d das Grillgut mit,\n
natürlich auch Ihre Getränke.\n
\n
Wir hoffen auf gut
 es Sommerwetter und freuen uns über\n
viele Teilnehmer. Bitte beachten Sie 
 weiterhin vor Ort die AHA-Regeln.\n
Wegen evtl. Änderungen beachten Sie auc
 h bitte den Terminkalender auf der SVAOe Homepage.\n
\n
Ihr Festausschuss\n
X-ALT-DESC;FMTTYPE=text/html:<p style="text-align: center; line-height: 115%;"><b><span style="font-size
 : 14pt; line-height: 115%; font-family: Arial, sans-serif;">Sommergrillen i
 n Borsfleth</span></b></p><p style="text-align: center; line-height: 115%;"
 ><span style="font-size: 11pt; line-height: 115%; font-family: Arial, sans-
 serif;"></span></p><p style="text-align: center; line-height: 115%;"><span 
 style="font-size: 11pt; line-height: 115%; font-family: Arial, sans-serif;"
 >Am Sonnabend, dem 21. August 2021</span></p><p style="text-align: center; 
 line-height: 115%;"><span style="font-size: 11pt; line-height: 115%; font-f
 amily: Arial, sans-serif;">veranstalten wir das Grillfest f&uuml;r unsere M
 itglieder und Freunde</span></p><p style="text-align: center; line-height: 
 115%;"><span style="font-size: 11pt; line-height: 115%; font-family: Arial,
  sans-serif;">ab 17:00 Uhr auf der Wiese im St&ouml;rloch.</span></p><p sty
 le="text-align: center; line-height: 115%;"><span style="font-size: 11pt; l
 ine-height: 115%; font-family: Arial, sans-serif;"></span></p><p style="tex
 t-align: center; line-height: 115%;"><span style="font-size: 11pt; line-hei
 ght: 115%; font-family: Arial, sans-serif;">Gezeiten f&uuml;r Sonnabend, 21
 .08.: HW Hamburg: 04:14 h, NW Gl&uuml;ckstadt : 09:35 h</span></p><p style=
 "text-align: center; line-height: 115%;"><span style="font-size: 11pt; line
 -height: 115%; font-family: Arial, sans-serif;">Gezeiten f&uuml;r Sonntag, 
 22.08. : NW Gl&uuml;ckstadt 10:34 h, HW Hamburg : 17:33 h</span></p><p styl
 e="text-align: center; line-height: 115%;"><span style="font-size: 11pt; li
 ne-height: 115%; font-family: Arial, sans-serif;"></span></p><p style="text
 -align: center; line-height: 115%;"><span style="font-size: 11pt; line-heig
 ht: 115%; font-family: Arial, sans-serif;">Zur Teilnahme ist eine Anmeldung
  mit Bootsnamen und Bootsl&auml;nge bis zum 15.08. unter <span id="cloakf6d
 b466a0f27f8918c88d39be096a884">Diese E-Mail-Adresse ist vor Spambots geschü
 tzt! Zur Anzeige muss JavaScript eingeschaltet sein!</span><script type='te
 xt/javascript'>
				document.getElementById('cloakf6db466a0f27f8918c88d39be
 096a884').innerHTML = '';
				var prefix = 'ma' + 'il' + 'to';
				var path
  = 'hr' + 'ef' + '=';
				var addyf6db466a0f27f8918c88d39be096a884 = 'doert
 e.stryi' + '@';
				addyf6db466a0f27f8918c88d39be096a884 = addyf6db466a0f27
 f8918c88d39be096a884 + 'svaoe' + '.' + 'de';
				var addy_textf6db466a0f27f
 8918c88d39be096a884 = '<span style="color: windowtext; text-decoration: non
 e;">doerte.stryi' + '@' + 'svaoe' + '.' + 'de</span>';document.getElementBy
 Id('cloakf6db466a0f27f8918c88d39be096a884').innerHTML += '<a ' + path + '\'
 ' + prefix + ':' + addyf6db466a0f27f8918c88d39be096a884 + '\'>'+addy_textf6
 db466a0f27f8918c88d39be096a884+'<\/a>';
		</script> erforderlich. Wer mit d
 em Auto/Rad usw. anreist</span></p><p style="text-align: center; line-heigh
 t: 115%;"><span style="font-size: 11pt; line-height: 115%; font-family: Ari
 al, sans-serif;">m&ouml;ge sich ebenfalls anmelden.</span></p><p style="tex
 t-align: center; line-height: 115%;"><span style="font-size: 11pt; line-hei
 ght: 115%; font-family: Arial, sans-serif;"></span></p><p style="text-align
 : center; line-height: 115%;"><span style="font-size: 11pt; line-height: 11
 5%; font-family: Arial, sans-serif;">Bitte bringen Sie Grillger&auml;t, Koh
 le und das Grillgut mit,</span></p><p style="text-align: center; line-heigh
 t: 115%;"><span style="font-size: 11pt; line-height: 115%; font-family: Ari
 al, sans-serif;">nat&uuml;rlich auch Ihre Getr&auml;nke.</span></p><p style
 ="text-align: center; line-height: 115%;"><span style="font-size: 11pt; lin
 e-height: 115%; font-family: Arial, sans-serif;"></span></p><p style="text-
 align: center; line-height: 115%;"><span style="font-size: 11pt; line-heigh
 t: 115%; font-family: Arial, sans-serif;">Wir hoffen auf gutes Sommerwetter
  und freuen uns &uuml;ber</span></p><p style="text-align: center; line-heig
 ht: 115%;"><span style="font-size: 11pt; line-height: 115%; font-family: Ar
 ial, sans-serif;">viele Teilnehmer. Bitte beachten Sie weiterhin vor Ort di
 e AHA-Regeln.</span></p><p style="text-align: center; line-height: 115%;"><
 span style="font-size: 11pt; line-height: 115%; font-family: Arial, sans-se
 rif;">Wegen evtl. &Auml;nderungen beachten Sie auch bitte den Terminkalende
 r auf der SVAOe Homepage.</span></p><p style="text-align: center; line-heig
 ht: 115%;"><span style="font-size: 11pt; line-height: 115%; font-family: Ar
 ial, sans-serif;"></span></p><p style="text-align: center; line-height: 115
 %;"><span style="font-size: 11pt; line-height: 115%; font-family: Arial, sa
 ns-serif;">Ihr Festausschuss</span></p>
CONTACT:Diese E-Mail-Adresse ist vor Spambots geschützt! Zur Anzeige muss JavaScript eingeschaltet sein!
				document.getElementById('cloak4167bf1675d990e972544d6a0716ca2a').innerHTML = '';
				var prefix = '&#109;a' + 'i&#108;' + '&#116;o';
				var path = 'hr' + 'ef' + '=';
				var addy4167bf1675d990e972544d6a0716ca2a = 'd&#111;&#101;rt&#101;.stry&#105;' + '&#64;';
				addy4167bf1675d990e972544d6a0716ca2a = addy4167bf1675d990e972544d6a0716ca2a + 'sv&#97;&#111;&#101;' + '&#46;' + 'd&#101;';
				var addy_text4167bf1675d990e972544d6a0716ca2a = 'd&#111;&#101;rt&#101;.stry&#105;' + '&#64;' + 'sv&#97;&#111;&#101;' + '&#46;' + 'd&#101;';document.getElementById('cloak4167bf1675d990e972544d6a0716ca2a').innerHTML += '<a ' + path + '\'' + prefix + ':' + addy4167bf1675d990e972544d6a0716ca2a + '\'>'+addy_text4167bf1675d990e972544d6a0716ca2a+'';
		
DTSTAMP:20260426T012018
DTSTART;TZID=Europe/Berlin:20210821T170000
SEQUENCE:0
TRANSP:OPAQUE
END:VEVENT
END:VCALENDAR