BEGIN:VCALENDAR
VERSION:2.0
PRODID:-//jEvents 2.0 for Joomla//EN
CALSCALE:GREGORIAN
METHOD:PUBLISH
BEGIN:VTIMEZONE
TZID:Europe/Berlin
BEGIN:STANDARD
DTSTART:20201125T190000
RDATE:20210328T030000
TZOFFSETFROM:+0200
TZOFFSETTO:+0100
TZNAME:Europe/Berlin CET
END:STANDARD
BEGIN:STANDARD
DTSTART:20211031T020000
RDATE:20220327T030000
TZOFFSETFROM:+0200
TZOFFSETTO:+0100
TZNAME:Europe/Berlin CET
END:STANDARD
BEGIN:STANDARD
DTSTART:20221030T020000
RDATE:20230326T030000
TZOFFSETFROM:+0200
TZOFFSETTO:+0100
TZNAME:Europe/Berlin CET
END:STANDARD
BEGIN:STANDARD
DTSTART:20231029T020000
RDATE:20240331T030000
TZOFFSETFROM:+0200
TZOFFSETTO:+0100
TZNAME:Europe/Berlin CET
END:STANDARD
BEGIN:STANDARD
DTSTART:20241027T020000
RDATE:20250330T030000
TZOFFSETFROM:+0200
TZOFFSETTO:+0100
TZNAME:Europe/Berlin CET
END:STANDARD
BEGIN:STANDARD
DTSTART:20251026T020000
RDATE:20260329T030000
TZOFFSETFROM:+0200
TZOFFSETTO:+0100
TZNAME:Europe/Berlin CET
END:STANDARD
BEGIN:STANDARD
DTSTART:20261025T020000
RDATE:20270328T030000
TZOFFSETFROM:+0200
TZOFFSETTO:+0100
TZNAME:Europe/Berlin CET
END:STANDARD
BEGIN:STANDARD
DTSTART:20271031T020000
RDATE:20280326T030000
TZOFFSETFROM:+0200
TZOFFSETTO:+0100
TZNAME:Europe/Berlin CET
END:STANDARD
BEGIN:STANDARD
DTSTART:20281029T020000
RDATE:20290325T030000
TZOFFSETFROM:+0200
TZOFFSETTO:+0100
TZNAME:Europe/Berlin CET
END:STANDARD
BEGIN:STANDARD
DTSTART:20291028T020000
RDATE:20300331T030000
TZOFFSETFROM:+0200
TZOFFSETTO:+0100
TZNAME:Europe/Berlin CET
END:STANDARD
BEGIN:STANDARD
DTSTART:20301027T020000
RDATE:20310330T030000
TZOFFSETFROM:+0200
TZOFFSETTO:+0100
TZNAME:Europe/Berlin CET
END:STANDARD
BEGIN:DAYLIGHT
DTSTART:20210328T030000
RDATE:20211031T020000
TZOFFSETFROM:+0100
TZOFFSETTO:+0200
TZNAME:Europe/Berlin CEST
END:DAYLIGHT
BEGIN:DAYLIGHT
DTSTART:20220327T030000
RDATE:20221030T020000
TZOFFSETFROM:+0100
TZOFFSETTO:+0200
TZNAME:Europe/Berlin CEST
END:DAYLIGHT
BEGIN:DAYLIGHT
DTSTART:20230326T030000
RDATE:20231029T020000
TZOFFSETFROM:+0100
TZOFFSETTO:+0200
TZNAME:Europe/Berlin CEST
END:DAYLIGHT
BEGIN:DAYLIGHT
DTSTART:20240331T030000
RDATE:20241027T020000
TZOFFSETFROM:+0100
TZOFFSETTO:+0200
TZNAME:Europe/Berlin CEST
END:DAYLIGHT
BEGIN:DAYLIGHT
DTSTART:20250330T030000
RDATE:20251026T020000
TZOFFSETFROM:+0100
TZOFFSETTO:+0200
TZNAME:Europe/Berlin CEST
END:DAYLIGHT
BEGIN:DAYLIGHT
DTSTART:20260329T030000
RDATE:20261025T020000
TZOFFSETFROM:+0100
TZOFFSETTO:+0200
TZNAME:Europe/Berlin CEST
END:DAYLIGHT
BEGIN:DAYLIGHT
DTSTART:20270328T030000
RDATE:20271031T020000
TZOFFSETFROM:+0100
TZOFFSETTO:+0200
TZNAME:Europe/Berlin CEST
END:DAYLIGHT
BEGIN:DAYLIGHT
DTSTART:20280326T030000
RDATE:20281029T020000
TZOFFSETFROM:+0100
TZOFFSETTO:+0200
TZNAME:Europe/Berlin CEST
END:DAYLIGHT
BEGIN:DAYLIGHT
DTSTART:20290325T030000
RDATE:20291028T020000
TZOFFSETFROM:+0100
TZOFFSETTO:+0200
TZNAME:Europe/Berlin CEST
END:DAYLIGHT
BEGIN:DAYLIGHT
DTSTART:20300331T030000
RDATE:20301027T020000
TZOFFSETFROM:+0100
TZOFFSETTO:+0200
TZNAME:Europe/Berlin CEST
END:DAYLIGHT
END:VTIMEZONE
BEGIN:VEVENT
UID:5c2809850323e652b79ee586f9336bc1
CATEGORIES:Regatten
CREATED:20210926T073155
SUMMARY:Preisverteilung Elbe-Ausklang-Regatta
LOCATION:Clubhaus
DESCRIPTION:<p>Preisverteilung der Elbe-Ausklang-Regatta mit Gr&uuml;nkohlessen.</p><p>
 Das Essen beginnt um 19:00 Uhr, die Preisverteilung gegen 21:00.</p><p>F&uu
 ml;r die Teilnahme am Essen ist es als Anmeldung erforderlich, pro Person 1
 9,50&euro; (Jugendliche 13,-&euro;) auf das Konto der SVAOe bei der Hamburg
 er Sparkasse, IBAN DE60 2005 0550 1265 1039 92 zu &uuml;berweisen.</p><p>Di
 e Veranstaltung findet unter Ber&uuml;cksichtigung des <a href="133-allgeme
 ines/1448-besuch-in-unserem-clubhaus" target="_blank">Schutzkonzeptes f&uum
 l;r Veranstaltungen und Versammlungen im Clubhaus der SVAOe</a> statt (Stic
 hwort 2G-Modell).</p>
X-ALT-DESC;FMTTYPE=text/html:<p>Preisverteilung der Elbe-Ausklang-Regatta mit Gr&uuml;nkohlessen.</p><p>
 Das Essen beginnt um 19:00 Uhr, die Preisverteilung gegen 21:00.</p><p>F&uu
 ml;r die Teilnahme am Essen ist es als Anmeldung erforderlich, pro Person 1
 9,50&euro; (Jugendliche 13,-&euro;) auf das Konto der SVAOe bei der Hamburg
 er Sparkasse, IBAN DE60 2005 0550 1265 1039 92 zu &uuml;berweisen.</p><p>Di
 e Veranstaltung findet unter Ber&uuml;cksichtigung des <a href="https://sva
 oe.de/133-allgemeines/1448-besuch-in-unserem-clubhaus" target="_blank">Schu
 tzkonzeptes f&uuml;r Veranstaltungen und Versammlungen im Clubhaus der SVAO
 e</a> statt (Stichwort 2G-Modell).</p>
DTSTAMP:20260425T111923
DTSTART;TZID=Europe/Berlin:20211126T190000
SEQUENCE:0
TRANSP:OPAQUE
END:VEVENT
END:VCALENDAR